BEGIN:VCALENDAR
VERSION:2.0
PRODID:PgConf US Local: Ohio [PgConf.US]
CALSCALE:GREGORIAN
BEGIN:VEVENT
DTSTAMP:20260420T090259Z
UID:15b856b2-cf8f-46b0-b022-6c7a7b3bfd78
DTSTART:20170929T130000Z
DTEND:20170929T160000Z
LOCATION:Fairfield
SUMMARY:Postgres Performance and Maintenance (Joshua D. Drake)
URL:https://postgresworld.org/conferences/Ohio2017/program/proposals/734
END:VEVENT
BEGIN:VEVENT
DTSTAMP:20260420T090259Z
UID:14c9144f-585c-4e94-995d-9c79e71fd9a9
DTSTART:20170930T130000Z
DTEND:20170930T135000Z
LOCATION:Fairfield
SUMMARY:Postgres v10: An Amplified version of PostgreSQL (Joshua D. Drake)
URL:https://postgresworld.org/conferences/Ohio2017/program/proposals/737
END:VEVENT
BEGIN:VEVENT
DTSTAMP:20260420T090259Z
UID:762c7b3e-f619-4cfe-9185-2a92a581aff1
DTSTART:20170930T140000Z
DTEND:20170930T145000Z
LOCATION:Fairfield
SUMMARY:MVCC in PostgreSQL (Douglas Hunley)
URL:https://postgresworld.org/conferences/Ohio2017/program/proposals/735
END:VEVENT
BEGIN:VEVENT
DTSTAMP:20260420T090259Z
UID:920a3719-19e2-487a-95b0-9e748e07cb33
DTSTART:20170930T150000Z
DTEND:20170930T155000Z
LOCATION:Fairfield
SUMMARY:Cloudy With A Chance of Elephants (Phil Vacca)
URL:https://postgresworld.org/conferences/Ohio2017/program/proposals/741
END:VEVENT
BEGIN:VEVENT
DTSTAMP:20260420T090259Z
UID:2b777ce0-9718-4c56-8434-8322e1cac6d5
DTSTART:20170930T160000Z
DTEND:20170930T165000Z
LOCATION:Fairfield
SUMMARY:A MySQL DBA's journey to support and implement PostgreSQL (CJ Estel
 )
URL:https://postgresworld.org/conferences/Ohio2017/program/proposals/732
END:VEVENT
END:VCALENDAR
