BEGIN:VCALENDAR
VERSION:2.0
PRODID:Silicon Valley 2023
CALSCALE:GREGORIAN
BEGIN:VEVENT
DTSTAMP:20260423T205033Z
UID:93cd64e8-9842-4571-b279-2a4a707b369d
DTSTART:20230420T164000Z
DTEND:20230420T170000Z
LOCATION:Almaden Ballroom\, Main Level
SUMMARY:AlloyDB: PostgreSQL in a way that only Google can deliver it
URL:https://postgresworld.org/conferences/SV2023/program/proposals/2086
END:VEVENT
BEGIN:VEVENT
DTSTAMP:20260423T205033Z
UID:67f8667e-f426-49e2-a88a-57bd27d6bb4b
DTSTART:20230420T171000Z
DTEND:20230420T173000Z
LOCATION:Almaden Ballroom\, Main Level
SUMMARY:The Growing Postgres Ecosystem
URL:https://postgresworld.org/conferences/SV2023/program/proposals/2076
END:VEVENT
BEGIN:VEVENT
DTSTAMP:20260423T205033Z
UID:fe5596a9-9200-4c1d-893a-3dcfe1d16b4d
DTSTART:20230420T174000Z
DTEND:20230420T180000Z
LOCATION:Almaden Ballroom\, Main Level
SUMMARY:Bringing developers and Postgres closer together
URL:https://postgresworld.org/conferences/SV2023/program/proposals/2079
END:VEVENT
BEGIN:VEVENT
DTSTAMP:20260423T205033Z
UID:623e9932-997f-4227-ab83-1dd0957c97f2
DTSTART:20230420T181000Z
DTEND:20230420T183000Z
LOCATION:Almaden Ballroom\, Main Level
SUMMARY:How to Escape the Cult of Expertise
URL:https://postgresworld.org/conferences/SV2023/program/proposals/2021
END:VEVENT
BEGIN:VEVENT
DTSTAMP:20260423T205033Z
UID:d8db2efd-38cc-40b6-bf50-a3b3ca6e177b
DTSTART:20230420T184000Z
DTEND:20230420T190000Z
LOCATION:Almaden Ballroom\, Main Level
SUMMARY:Embrace\, Extend\, Evolve: Making PostgreSQL Work for Cloud Native 
 Applications (Karthik Ranganathan)
URL:https://postgresworld.org/conferences/SV2023/program/proposals/2084
END:VEVENT
BEGIN:VEVENT
DTSTAMP:20260423T205033Z
UID:206e0d06-18ae-4c3e-938c-081130ccd927
DTSTART:20230420T190000Z
DTEND:20230420T200000Z
LOCATION:Almaden Ballroom\, Main Level
SUMMARY:Thursday Lunch
URL:https://postgresworld.org/conferences/SV2023/program/proposals/2081
END:VEVENT
BEGIN:VEVENT
DTSTAMP:20260423T205033Z
UID:62cf4314-566d-49c8-826b-262abb037752
DTSTART:20230420T200000Z
DTEND:20230420T205000Z
LOCATION:Almaden Ballroom\, Main Level
SUMMARY:Evolution of Transactional Databases ( Kannan Muthukkaruppan)
URL:https://postgresworld.org/conferences/SV2023/program/proposals/2072
END:VEVENT
BEGIN:VEVENT
DTSTAMP:20260423T205033Z
UID:df5fe80e-ae1f-49b9-8443-986069839a92
DTSTART:20230420T200000Z
DTEND:20230420T205000Z
LOCATION:Santa Clara\, Lvl C
SUMMARY:Understanding Transaction Isolation and Serializability (Brian Hodg
 e)
URL:https://postgresworld.org/conferences/SV2023/program/proposals/2052
END:VEVENT
BEGIN:VEVENT
DTSTAMP:20260423T205033Z
UID:82397881-23e7-4100-beb0-c8e0a1be7c9b
DTSTART:20230420T200000Z
DTEND:20230420T202000Z
LOCATION:Winchester\, Main Level
SUMMARY: PostgreSQL and NLP: How to build an ChatGPT application in minutes
  (Jorge Torres)
URL:https://postgresworld.org/conferences/SV2023/program/proposals/2054
END:VEVENT
BEGIN:VEVENT
DTSTAMP:20260423T205033Z
UID:7c765f22-a1af-40fc-846b-40a38a539818
DTSTART:20230420T200000Z
DTEND:20230420T205000Z
LOCATION:San Pedro\, Lvl C
SUMMARY:3 Techniques to Improve Postgres Response Times without Code Change
 s (Lee Roland)
URL:https://postgresworld.org/conferences/SV2023/program/proposals/1991
END:VEVENT
BEGIN:VEVENT
DTSTAMP:20260423T205033Z
UID:e7a08929-d8ac-4b8f-b5c5-4f6323be4281
DTSTART:20230420T203000Z
DTEND:20230420T205000Z
LOCATION:Winchester\, Main Level
SUMMARY:Data Architecture and Modeling with DataWharf
URL:https://postgresworld.org/conferences/SV2023/program/proposals/2040
END:VEVENT
BEGIN:VEVENT
DTSTAMP:20260423T205033Z
UID:343565fc-5fde-454c-b285-358ce43ada83
DTSTART:20230420T211000Z
DTEND:20230420T220000Z
LOCATION:Almaden Ballroom\, Main Level
SUMMARY:Weathering the Cloud Storm: PostgreSQL High Availability Options (D
 enis Magda)
URL:https://postgresworld.org/conferences/SV2023/program/proposals/2073
END:VEVENT
BEGIN:VEVENT
DTSTAMP:20260423T205033Z
UID:e7c96a5a-1210-417e-92d7-a9c82d72c739
DTSTART:20230420T211000Z
DTEND:20230420T220000Z
LOCATION:San Pedro\, Lvl C
SUMMARY:Postgres Extension Lifecycle (Adam Hendel)
URL:https://postgresworld.org/conferences/SV2023/program/proposals/2078
END:VEVENT
BEGIN:VEVENT
DTSTAMP:20260423T205033Z
UID:78fc378c-953d-4a84-a872-b1276d8358d7
DTSTART:20230420T211000Z
DTEND:20230420T220000Z
LOCATION:Winchester\, Main Level
SUMMARY:Taking anxiety out of PostgreSQL upgrades in Amazon RDS (Jignesh Sh
 ah)
URL:https://postgresworld.org/conferences/SV2023/program/proposals/2016
END:VEVENT
BEGIN:VEVENT
DTSTAMP:20260423T205033Z
UID:579d1883-8724-4064-ad2e-7ce6c0a9e03e
DTSTART:20230420T211000Z
DTEND:20230420T220000Z
LOCATION:Santa Clara\, Lvl C
SUMMARY:Migrating Mainframe/VSAM applications to Linux/Postgres (Michael Po
 tter)
URL:https://postgresworld.org/conferences/SV2023/program/proposals/2006
END:VEVENT
BEGIN:VEVENT
DTSTAMP:20260423T205033Z
UID:56f282be-b578-4e4b-a9cf-a2137385a988
DTSTART:20230420T222000Z
DTEND:20230420T224000Z
LOCATION:Winchester\, Main Level
SUMMARY:Torturing Postgres: autonomous testing for distributed architecture
 s ( Mehboob Alam)
URL:https://postgresworld.org/conferences/SV2023/program/proposals/2026
END:VEVENT
BEGIN:VEVENT
DTSTAMP:20260423T205033Z
UID:64fbc450-40c4-4710-b529-9880f32b54eb
DTSTART:20230420T222000Z
DTEND:20230420T231000Z
LOCATION:Santa Clara\, Lvl C
SUMMARY:Simplifying Data Replication with PostgreSQL (Chris Sean)
URL:https://postgresworld.org/conferences/SV2023/program/proposals/2048
END:VEVENT
BEGIN:VEVENT
DTSTAMP:20260423T205033Z
UID:e4635145-28d2-4146-adb8-0d4a0400d595
DTSTART:20230420T222000Z
DTEND:20230420T224000Z
LOCATION:San Pedro\, Lvl C
SUMMARY:Open Source in the Age of Cloud and Microservices (Michael Meskes)
URL:https://postgresworld.org/conferences/SV2023/program/proposals/2008
END:VEVENT
BEGIN:VEVENT
DTSTAMP:20260423T205033Z
UID:0fac9a5f-114c-4696-be0b-6e2615a712ee
DTSTART:20230420T222000Z
DTEND:20230420T224000Z
LOCATION:Almaden Ballroom\, Main Level
SUMMARY:Future of Distributed SQL: 3 Things I’m Most Excited About  (Kart
 hik Ranganathan)
URL:https://postgresworld.org/conferences/SV2023/program/proposals/2074
END:VEVENT
BEGIN:VEVENT
DTSTAMP:20260423T205033Z
UID:13ca5e3d-7c56-4386-8422-d87d26ccfb41
DTSTART:20230420T225000Z
DTEND:20230420T231000Z
LOCATION:Winchester\, Main Level
SUMMARY:Architecting for High Availability and Disaster Recovery with Amazo
 n RDS for PostgreSQL and Amazon Aurora PostgreSQL (Chris Riggin)
URL:https://postgresworld.org/conferences/SV2023/program/proposals/2047
END:VEVENT
BEGIN:VEVENT
DTSTAMP:20260423T205033Z
UID:1a5fd88f-44e3-4fe1-8998-7ad58ba62ffe
DTSTART:20230420T225000Z
DTEND:20230420T234000Z
LOCATION:Almaden Ballroom\, Main Level
SUMMARY:YSQL Development for PostgreSQL Developers (Seth Luersen)
URL:https://postgresworld.org/conferences/SV2023/program/proposals/2075
END:VEVENT
BEGIN:VEVENT
DTSTAMP:20260423T205033Z
UID:b62e2aa6-2b84-45f3-95e1-7ab527326d9e
DTSTART:20230420T225000Z
DTEND:20230420T234000Z
LOCATION:San Pedro\, Lvl C
SUMMARY:Developing PostgreSQL extensions using Trusted Language Extensions 
 (Jignesh Shah)
URL:https://postgresworld.org/conferences/SV2023/program/proposals/2015
END:VEVENT
BEGIN:VEVENT
DTSTAMP:20260423T205033Z
UID:1d059148-b4fa-4dfd-ad3b-77838be72727
DTSTART:20230420T232000Z
DTEND:20230420T234000Z
LOCATION:Winchester\, Main Level
SUMMARY:Choosing the right storage for your RDS for PostgreSQL database (Wa
 nda  He)
URL:https://postgresworld.org/conferences/SV2023/program/proposals/2033
END:VEVENT
BEGIN:VEVENT
DTSTAMP:20260423T205033Z
UID:592a5f73-97ec-41b4-a838-9d01cff90b6b
DTSTART:20230420T232000Z
DTEND:20230420T234000Z
LOCATION:Santa Clara\, Lvl C
SUMMARY:As the Inventor of Slony-I\, I present to you Spock (Jan Wieck)
URL:https://postgresworld.org/conferences/SV2023/program/proposals/2044
END:VEVENT
BEGIN:VEVENT
DTSTAMP:20260423T205033Z
UID:85efd9a8-447c-4cb2-bbdb-f9a38d042eb1
DTSTART:20230420T235000Z
DTEND:20230421T001000Z
LOCATION:Almaden Ballroom\, Main Level
SUMMARY:Distributed SQL Databases: The Whys and Hows (Denis Magda)
URL:https://postgresworld.org/conferences/SV2023/program/proposals/2055
END:VEVENT
BEGIN:VEVENT
DTSTAMP:20260423T205033Z
UID:61fcdf90-583f-4dc0-a6d1-a598aeadab25
DTSTART:20230420T235000Z
DTEND:20230421T004000Z
LOCATION:Santa Clara\, Lvl C
SUMMARY:The Machines Haven't Taken Over Yet: Incorporating Domain Knowledge
  into ML-driven Database Tuning Tools (Dana Van Aken)
URL:https://postgresworld.org/conferences/SV2023/program/proposals/2013
END:VEVENT
BEGIN:VEVENT
DTSTAMP:20260423T205033Z
UID:e4f0def6-00dd-42f4-803c-d42094fcd3d2
DTSTART:20230420T235000Z
DTEND:20230421T001000Z
LOCATION:San Pedro\, Lvl C
SUMMARY:DBtune: Database tuning software as a service (Luigi Nardi)
URL:https://postgresworld.org/conferences/SV2023/program/proposals/2085
END:VEVENT
BEGIN:VEVENT
DTSTAMP:20260423T205033Z
UID:b35d34ec-9daa-4b2e-8c14-ae74c97ddb84
DTSTART:20230420T235000Z
DTEND:20230421T004000Z
LOCATION:Winchester\, Main Level
SUMMARY:10 Things I Learned Solving Advent of Code Puzzles with PostgreSQL 
 (Ryan Booz)
URL:https://postgresworld.org/conferences/SV2023/program/proposals/1997
END:VEVENT
BEGIN:VEVENT
DTSTAMP:20260423T205033Z
UID:5abc11dc-8fe9-4403-8b15-49e7513ac9b3
DTSTART:20230421T002000Z
DTEND:20230421T004000Z
LOCATION:San Pedro\, Lvl C
SUMMARY:PostgreSQL High Availability: The Considerations and the Candidates
  (Dave Stokes)
URL:https://postgresworld.org/conferences/SV2023/program/proposals/2077
END:VEVENT
BEGIN:VEVENT
DTSTAMP:20260423T205033Z
UID:02d99887-e85d-46d6-8016-d6b06db44237
DTSTART:20230421T010000Z
DTEND:20230421T030000Z
LOCATION:Almaden Ballroom\, Main Level
SUMMARY:PostgresConf SV: Welcome Reception
URL:https://postgresworld.org/conferences/SV2023/program/proposals/2083
END:VEVENT
BEGIN:VEVENT
DTSTAMP:20260423T205033Z
UID:ee327288-e34d-456e-bc3c-bb0d47bb830c
DTSTART:20230421T163000Z
DTEND:20230421T180000Z
LOCATION:Santa Clara\, Lvl C
SUMMARY:How to configure a PostgreSQL cluster for multitenancy (Bryn Llewel
 lyn)
URL:https://postgresworld.org/conferences/SV2023/program/proposals/2019
END:VEVENT
BEGIN:VEVENT
DTSTAMP:20260423T205033Z
UID:31a54f11-44f9-4ca5-a6a3-4581c1d74fe0
DTSTART:20230421T163000Z
DTEND:20230421T165000Z
LOCATION:Almaden Ballroom\, Main Level
SUMMARY:MERGE() - A Quick Introduction (Dave Stokes)
URL:https://postgresworld.org/conferences/SV2023/program/proposals/2002
END:VEVENT
BEGIN:VEVENT
DTSTAMP:20260423T205033Z
UID:14c5da32-b01b-4ce7-9df8-fdeca9cbd314
DTSTART:20230421T163000Z
DTEND:20230421T165000Z
LOCATION:San Pedro\, Lvl C
SUMMARY:Full Stack Postgres on Kubernetes with StackGres (Jose Finotto)
URL:https://postgresworld.org/conferences/SV2023/program/proposals/1995
END:VEVENT
BEGIN:VEVENT
DTSTAMP:20260423T205033Z
UID:3eccda12-a8cb-4c2b-a9bd-32207f442586
DTSTART:20230421T163000Z
DTEND:20230421T172000Z
LOCATION:Winchester\, Main Level
SUMMARY:All roads lead to Amazon Aurora (John Russell and Dustin Brown)
URL:https://postgresworld.org/conferences/SV2023/program/proposals/2068
END:VEVENT
BEGIN:VEVENT
DTSTAMP:20260423T205033Z
UID:a3e03ee3-2f6b-4490-998b-19a31b23be61
DTSTART:20230421T170000Z
DTEND:20230421T175000Z
LOCATION:Almaden Ballroom\, Main Level
SUMMARY:Archiving Data (CJ Estel)
URL:https://postgresworld.org/conferences/SV2023/program/proposals/2003
END:VEVENT
BEGIN:VEVENT
DTSTAMP:20260423T205033Z
UID:bdc781b4-545b-465b-9c8e-6ce888a412cb
DTSTART:20230421T170000Z
DTEND:20230421T183000Z
LOCATION:San Pedro\, Lvl C
SUMMARY:SEAL Team Six (Aaron Cutshall)
URL:https://postgresworld.org/conferences/SV2023/program/proposals/2004
END:VEVENT
BEGIN:VEVENT
DTSTAMP:20260423T205033Z
UID:347e0f68-9146-446a-a8d8-1b91b94e78a4
DTSTART:20230421T173000Z
DTEND:20230421T182000Z
LOCATION:Winchester\, Main Level
SUMMARY:Deploying Amazon RDS database for applications in Kubernetes (Chira
 g Dave)
URL:https://postgresworld.org/conferences/SV2023/program/proposals/2069
END:VEVENT
BEGIN:VEVENT
DTSTAMP:20260423T205033Z
UID:52c10b51-c26f-4a1a-9197-10d11b04c720
DTSTART:20230421T180000Z
DTEND:20230421T182000Z
LOCATION:Almaden Ballroom\, Main Level
SUMMARY:Enabling Secure and Scalable Open-Source in Finance (Marcos Figueir
 edo)
URL:https://postgresworld.org/conferences/SV2023/program/proposals/2060
END:VEVENT
BEGIN:VEVENT
DTSTAMP:20260423T205033Z
UID:e0908f75-d958-42df-af8f-6c1c591ba455
DTSTART:20230421T181000Z
DTEND:20230421T183000Z
LOCATION:Santa Clara\, Lvl C
SUMMARY: Efficient PostgreSQL Query Writing: Avoiding Common Anti-Patterns 
 and ORM Pitfalls
URL:https://postgresworld.org/conferences/SV2023/program/proposals/2051
END:VEVENT
BEGIN:VEVENT
DTSTAMP:20260423T205033Z
UID:275850d8-4782-41df-ae62-8661c93a4f78
DTSTART:20230421T184000Z
DTEND:20230421T193000Z
LOCATION:Almaden Ballroom\, Main Level
SUMMARY:Let robots help with queries (Tatiana Krupenya)
URL:https://postgresworld.org/conferences/SV2023/program/proposals/2036
END:VEVENT
BEGIN:VEVENT
DTSTAMP:20260423T205033Z
UID:22531c87-addb-4692-95ab-4b2c408bdfd4
DTSTART:20230421T184000Z
DTEND:20230421T190000Z
LOCATION:San Pedro\, Lvl C
SUMMARY:The Part of PostgreSQL I Hate the Most (Bohan Zhang)
URL:https://postgresworld.org/conferences/SV2023/program/proposals/2039
END:VEVENT
BEGIN:VEVENT
DTSTAMP:20260423T205033Z
UID:02ee8841-2410-41a3-ab11-7416b609abb8
DTSTART:20230421T184000Z
DTEND:20230421T193000Z
LOCATION:Winchester\, Main Level
SUMMARY:Top 10 Tips for migrating to Amazon Aurora and Amazon RDS (Sivasamy
  Subramaniam)
URL:https://postgresworld.org/conferences/SV2023/program/proposals/2067
END:VEVENT
BEGIN:VEVENT
DTSTAMP:20260423T205033Z
UID:87da8709-a4f7-41ab-a7a4-b0874b3ca523
DTSTART:20230421T184000Z
DTEND:20230421T193000Z
LOCATION:Santa Clara\, Lvl C
SUMMARY:Improving the Ergonomics of Writing SQL (Brian Hodge)
URL:https://postgresworld.org/conferences/SV2023/program/proposals/2053
END:VEVENT
BEGIN:VEVENT
DTSTAMP:20260423T205033Z
UID:5c60d320-94c1-4aa8-b76c-c09b164fa707
DTSTART:20230421T191000Z
DTEND:20230421T193000Z
LOCATION:San Pedro\, Lvl C
SUMMARY:10 Years of Automating Postgres (Julian Fischer)
URL:https://postgresworld.org/conferences/SV2023/program/proposals/2007
END:VEVENT
BEGIN:VEVENT
DTSTAMP:20260423T205033Z
UID:f1b0eecd-344b-4761-ba88-fc7adc3acd86
DTSTART:20230421T193000Z
DTEND:20230421T203000Z
LOCATION:Almaden Ballroom\, Main Level
SUMMARY:Friday Lunch
URL:https://postgresworld.org/conferences/SV2023/program/proposals/2082
END:VEVENT
BEGIN:VEVENT
DTSTAMP:20260423T205033Z
UID:b555b685-f919-4d67-b0c0-b97172e930c0
DTSTART:20230421T203000Z
DTEND:20230421T212000Z
LOCATION:Almaden Ballroom\, Main Level
SUMMARY:Make Postgres Simple\, Reliable\, and Cost-Effective with Nutanix D
 atabase Service (Manish Pratap Singh and Jeremy Launier)
URL:https://postgresworld.org/conferences/SV2023/program/proposals/2050
END:VEVENT
BEGIN:VEVENT
DTSTAMP:20260423T205033Z
UID:172a0f0f-33a4-46d4-8658-374001b309d8
DTSTART:20230421T203000Z
DTEND:20230421T212000Z
LOCATION:San Pedro\, Lvl C
SUMMARY:Citus: Orange You Glad It's Postgres (Zak Tedder)
URL:https://postgresworld.org/conferences/SV2023/program/proposals/2071
END:VEVENT
BEGIN:VEVENT
DTSTAMP:20260423T205034Z
UID:2dee1d01-0754-4729-ac1f-8d13748f68e1
DTSTART:20230421T203000Z
DTEND:20230421T220000Z
LOCATION:Winchester\, Main Level
SUMMARY:Running PostgreSQL on AWS for SQL Server DBAs (Chandra Pathivada an
 d Ramesh Kumar Venkatraman)
URL:https://postgresworld.org/conferences/SV2023/program/proposals/2035
END:VEVENT
BEGIN:VEVENT
DTSTAMP:20260423T205034Z
UID:c00d93ac-e583-4ff3-96ec-43a11029df41
DTSTART:20230421T203000Z
DTEND:20230421T212000Z
LOCATION:Santa Clara\, Lvl C
SUMMARY:Discover the Power of Window Functions (Aaron Cutshall)
URL:https://postgresworld.org/conferences/SV2023/program/proposals/2058
END:VEVENT
BEGIN:VEVENT
DTSTAMP:20260423T205034Z
UID:c99f2648-ab29-4f7e-b42d-6527995c4e5a
DTSTART:20230421T214000Z
DTEND:20230421T223000Z
LOCATION:San Pedro\, Lvl C
SUMMARY:Full Page Writes in PostgreSQL - Critical\, Evil or Both - Why you 
 should care and how to optimize (Grant McAlister)
URL:https://postgresworld.org/conferences/SV2023/program/proposals/2032
END:VEVENT
BEGIN:VEVENT
DTSTAMP:20260423T205034Z
UID:8b09bce1-c563-48ea-8957-8a26346a1810
DTSTART:20230421T214000Z
DTEND:20230421T223000Z
LOCATION:Almaden Ballroom\, Main Level
SUMMARY:Postgres for Oracle DBAs - A Comparison Study (Srinivasa  Inaganti)
URL:https://postgresworld.org/conferences/SV2023/program/proposals/2042
END:VEVENT
BEGIN:VEVENT
DTSTAMP:20260423T205034Z
UID:db461f38-f5bf-413b-a9e9-6e4c8f26bf84
DTSTART:20230421T214000Z
DTEND:20230421T223000Z
LOCATION:Santa Clara\, Lvl C
SUMMARY:Message Stores and Event Sourcing with Message DB (Scott Bellware)
URL:https://postgresworld.org/conferences/SV2023/program/proposals/2012
END:VEVENT
BEGIN:VEVENT
DTSTAMP:20260423T205034Z
UID:5791f1f8-2797-4110-afb6-e682ecdc1713
DTSTART:20230421T221000Z
DTEND:20230421T223000Z
LOCATION:Winchester\, Main Level
SUMMARY:Optimize Costs using Babelfish for Aurora PostgreSQL (Chandra Pathi
 vada and Ramesh Kumar Venkatraman)
URL:https://postgresworld.org/conferences/SV2023/program/proposals/2034
END:VEVENT
BEGIN:VEVENT
DTSTAMP:20260423T205034Z
UID:379ce313-7574-4773-9965-c8846a86fab7
DTSTART:20230421T225000Z
DTEND:20230421T234000Z
LOCATION:San Pedro\, Lvl C
SUMMARY:Building a Serverless PostgreSQL with Neon Tech OpenSource and Perc
 ona Builds (Vadim Tkachenko)
URL:https://postgresworld.org/conferences/SV2023/program/proposals/2024
END:VEVENT
BEGIN:VEVENT
DTSTAMP:20260423T205034Z
UID:0142f55a-ad3a-49a2-b8cc-11b70ac11623
DTSTART:20230421T225000Z
DTEND:20230421T234000Z
LOCATION:Almaden Ballroom\, Main Level
SUMMARY:Moving MongoDB Workloads to Postgres with FerretDB (Peter Farkas)
URL:https://postgresworld.org/conferences/SV2023/program/proposals/2045
END:VEVENT
BEGIN:VEVENT
DTSTAMP:20260423T205034Z
UID:cd98bf41-712f-4b4b-9530-d128483d634e
DTSTART:20230421T225000Z
DTEND:20230421T234000Z
LOCATION:Winchester\, Main Level
SUMMARY:Improving the security of your PostgreSQL databases using Amazon Au
 rora and Amazon RDS (Chirag Dave)
URL:https://postgresworld.org/conferences/SV2023/program/proposals/2070
END:VEVENT
BEGIN:VEVENT
DTSTAMP:20260423T205034Z
UID:d66faab1-f226-4f44-a41b-34f2570b9d54
DTSTART:20230421T225000Z
DTEND:20230421T231000Z
LOCATION:Santa Clara\, Lvl C
SUMMARY:Features for Scalable PostgreSQL in Cloud Spanner (Kesiena Owho-Ovu
 akporie)
URL:https://postgresworld.org/conferences/SV2023/program/proposals/2046
END:VEVENT
BEGIN:VEVENT
DTSTAMP:20260423T205034Z
UID:a83e483b-015f-4bc7-83cc-c24d4a88bf74
DTSTART:20230421T232000Z
DTEND:20230421T234000Z
LOCATION:Santa Clara\, Lvl C
SUMMARY:Serverless Postgres Study and Practice (Grant Zhou)
URL:https://postgresworld.org/conferences/SV2023/program/proposals/2022
END:VEVENT
END:VCALENDAR
